BEGIN:VCALENDAR
VERSION:2.0
PRODID:-//Natural Healing Stone - ECPv6.15.20//NONSGML v1.0//EN
CALSCALE:GREGORIAN
METHOD:PUBLISH
X-ORIGINAL-URL:https://naturalhealingstone.com
X-WR-CALDESC:Events for Natural Healing Stone
REFRESH-INTERVAL;VALUE=DURATION:PT1H
X-Robots-Tag:noindex
X-PUBLISHED-TTL:PT1H
BEGIN:VTIMEZONE
TZID:America/Denver
BEGIN:DAYLIGHT
TZOFFSETFROM:-0700
TZOFFSETTO:-0600
TZNAME:MDT
DTSTART:20250309T090000
END:DAYLIGHT
BEGIN:STANDARD
TZOFFSETFROM:-0600
TZOFFSETTO:-0700
TZNAME:MST
DTSTART:20251102T080000
END:STANDARD
BEGIN:DAYLIGHT
TZOFFSETFROM:-0700
TZOFFSETTO:-0600
TZNAME:MDT
DTSTART:20260308T090000
END:DAYLIGHT
BEGIN:STANDARD
TZOFFSETFROM:-0600
TZOFFSETTO:-0700
TZNAME:MST
DTSTART:20261101T080000
END:STANDARD
BEGIN:DAYLIGHT
TZOFFSETFROM:-0700
TZOFFSETTO:-0600
TZNAME:MDT
DTSTART:20270314T090000
END:DAYLIGHT
BEGIN:STANDARD
TZOFFSETFROM:-0600
TZOFFSETTO:-0700
TZNAME:MST
DTSTART:20271107T080000
END:STANDARD
END:VTIMEZONE
BEGIN:VEVENT
DTSTART;TZID=America/Denver:20260503T100000
DTEND;TZID=America/Denver:20260503T170000
DTSTAMP:20260420T215425
CREATED:20260131T080659Z
LAST-MODIFIED:20260131T080659Z
UID:5544-1777802400-1777827600@naturalhealingstone.com
SUMMARY:El Paso COMIC CON
DESCRIPTION:May 1st\, 2nd & 3rd –\nFriday (1st) 12:00 pm – 9:00 pm\nSaturday (2nd) 10:00 am – 7:00 pm\nSunday (3rd) 10:00 am – 5:00 pm\nEl Paso COMIC CON\nEl Paso Convention Center\, 1 Civic Center Plaza\, El Paso\, TX 79901
URL:https://naturalhealingstone.com/event/el-paso-comic-con-3/
END:VEVENT
END:VCALENDAR