BEGIN:VCALENDAR
VERSION:2.0
PRODID:-//Natural Healing Stone - ECPv6.15.20//NONSGML v1.0//EN
CALSCALE:GREGORIAN
METHOD:PUBLISH
X-WR-CALNAME:Natural Healing Stone
X-ORIGINAL-URL:https://naturalhealingstone.com
X-WR-CALDESC:Events for Natural Healing Stone
REFRESH-INTERVAL;VALUE=DURATION:PT1H
X-Robots-Tag:noindex
X-PUBLISHED-TTL:PT1H
BEGIN:VTIMEZONE
TZID:America/Denver
BEGIN:DAYLIGHT
TZOFFSETFROM:-0700
TZOFFSETTO:-0600
TZNAME:MDT
DTSTART:20240310T090000
END:DAYLIGHT
BEGIN:STANDARD
TZOFFSETFROM:-0600
TZOFFSETTO:-0700
TZNAME:MST
DTSTART:20241103T080000
END:STANDARD
BEGIN:DAYLIGHT
TZOFFSETFROM:-0700
TZOFFSETTO:-0600
TZNAME:MDT
DTSTART:20250309T090000
END:DAYLIGHT
BEGIN:STANDARD
TZOFFSETFROM:-0600
TZOFFSETTO:-0700
TZNAME:MST
DTSTART:20251102T080000
END:STANDARD
BEGIN:DAYLIGHT
TZOFFSETFROM:-0700
TZOFFSETTO:-0600
TZNAME:MDT
DTSTART:20260308T090000
END:DAYLIGHT
BEGIN:STANDARD
TZOFFSETFROM:-0600
TZOFFSETTO:-0700
TZNAME:MST
DTSTART:20261101T080000
END:STANDARD
BEGIN:DAYLIGHT
TZOFFSETFROM:-0700
TZOFFSETTO:-0600
TZNAME:MDT
DTSTART:20270314T090000
END:DAYLIGHT
BEGIN:STANDARD
TZOFFSETFROM:-0600
TZOFFSETTO:-0700
TZNAME:MST
DTSTART:20271107T080000
END:STANDARD
END:VTIMEZONE
BEGIN:VEVENT
DTSTART;TZID=America/Denver:20260315T120000
DTEND;TZID=America/Denver:20260315T180000
DTSTAMP:20260420T234957
CREATED:20260131T075634Z
LAST-MODIFIED:20260306T234708Z
UID:5534-1773576000-1773597600@naturalhealingstone.com
SUMMARY:Artist\, Crafters and Creators Bazaar
DESCRIPTION:March 14th & 15th – 12:00 pm – 6:00 pm\nArtist\, Crafters\, and Creators Bazaar\nMesilla Valley Mall\n700 S. Telshor Blvd\, Las Cruces\, NM  88011
URL:https://naturalhealingstone.com/event/artist-crafters-and-creators-bazaar-mesilla-mall/
END:VEVENT
BEGIN:VEVENT
DTSTART;TZID=America/Denver:20260314T120000
DTEND;TZID=America/Denver:20260314T180000
DTSTAMP:20260420T234957
CREATED:20260306T233213Z
LAST-MODIFIED:20260306T233213Z
UID:5593-1773489600-1773511200@naturalhealingstone.com
SUMMARY:Artists\, Crafters\, and Creators Bazaar
DESCRIPTION:March 14th & 15th – 12:00 pm – 6:00 pm\nArtist\, Crafters\, and Creators Bazaar\nMesilla Mall\n700 S. Telshor Blvd\, Las Cruces\, NM  88011
URL:https://naturalhealingstone.com/event/artists-crafters-and-creators-bazaar/
CATEGORIES:Mall Events
END:VEVENT
BEGIN:VEVENT
DTSTART;TZID=America/Denver:20260308T090000
DTEND;TZID=America/Denver:20260308T170000
DTSTAMP:20260420T234957
CREATED:20260306T232740Z
LAST-MODIFIED:20260307T013824Z
UID:5589-1772960400-1772989200@naturalhealingstone.com
SUMMARY:Sierra County Rock & Gem Society (SCRAGS)
DESCRIPTION:March 7th & 8th – 9:00 am – 5 pm\nSierra County Rock and Gem Society (SCRAGS)\nSierra County Fair Barn – 1321 Hyde Ave\, Truth or Consequences\, NM  87901\nDownload the the pdf for:\nPower Crystals for Protection and Positive Energy\n 
URL:https://naturalhealingstone.com/event/march-2026/
CATEGORIES:Gem & Rock Events
END:VEVENT
BEGIN:VEVENT
DTSTART;TZID=America/Denver:20260307T090000
DTEND;TZID=America/Denver:20260308T170000
DTSTAMP:20260420T234957
CREATED:20260131T075232Z
LAST-MODIFIED:20260307T014150Z
UID:5531-1772874000-1772989200@naturalhealingstone.com
SUMMARY:Sierra County Rock and Gem Society (SCRAGS)
DESCRIPTION:March 7th & 8th – 9:00 am – 5 pm\nSierra County Rock and Gem Society (SCRAGS)\nSierra County Fair Barn – 1321 Hyde Ave\, Truth or Consequences\, NM  87901\nDownload the the pdf for:\nPower Crystals for Protection and Positive Energy
URL:https://naturalhealingstone.com/event/march-2026-sierra-county-rock-and-gem-society-scrags/
CATEGORIES:Gem & Rock Events
END:VEVENT
BEGIN:VEVENT
DTSTART;TZID=America/Denver:20260222T090000
DTEND;TZID=America/Denver:20260222T150000
DTSTAMP:20260420T234957
CREATED:20250222T160007Z
LAST-MODIFIED:20250403T022129Z
UID:5438-1771750800-1771772400@naturalhealingstone.com
SUMMARY:NM Gem & Rock Show 2026
DESCRIPTION:
URL:https://naturalhealingstone.com/event/nm-gem-rock-show-2026/
LOCATION:NM Farm & Ranch Museum\, 4100 Dripping Springs Rd\, Las Cruces\, NM\, 88011\, United States
CATEGORIES:Cons and Expos
END:VEVENT
BEGIN:VEVENT
DTSTART;TZID=America/Denver:20260221T090000
DTEND;TZID=America/Denver:20260221T170000
DTSTAMP:20260420T234957
CREATED:20250403T020510Z
LAST-MODIFIED:20250403T020510Z
UID:5435-1771664400-1771693200@naturalhealingstone.com
SUMMARY:NM Rock & Gem Show 2026
DESCRIPTION:
URL:https://naturalhealingstone.com/event/nm-rock-gem-show-2026/
LOCATION:NM Farm & Ranch Museum\, 4100 Dripping Springs Rd\, Las Cruces\, NM\, 88011\, United States
CATEGORIES:Cons and Expos
END:VEVENT
BEGIN:VEVENT
DTSTART;TZID=America/Denver:20260207T120000
DTEND;TZID=America/Denver:20260208T180000
DTSTAMP:20260420T234957
CREATED:20260131T074820Z
LAST-MODIFIED:20260131T074955Z
UID:5529-1770465600-1770573600@naturalhealingstone.com
SUMMARY:February 7th & 8th Artist-Crafters and Creators Bazaar Mesilla Valley Mall
DESCRIPTION:February 7th & 8th – 12:00 pm – 6:00 pm\nArtist\, Crafters and Creators Bazaar\nMesilla Valley Mall\n700 S. Telshor Blvd\, Las Cruces\, NM  88011
URL:https://naturalhealingstone.com/event/february-7th-8th-artist-crafters-and-creators-bazaar-mesilla-valley-mall/
END:VEVENT
BEGIN:VEVENT
DTSTART;TZID=America/Denver:20251222T110000
DTEND;TZID=America/Denver:20251222T170000
DTSTAMP:20260420T234957
CREATED:20250403T020013Z
LAST-MODIFIED:20250403T022802Z
UID:5433-1766401200-1766422800@naturalhealingstone.com
SUMMARY:Holiday Craft Bazaar
DESCRIPTION:Happy Holidays! \nJoin us for the monthly Artist\, Crafters\, & Creators Bazaar! \nCome find the perfect gift. \nOur booth is located just across from Cineport 10 and Spencer’s Gifts. \n 
URL:https://naturalhealingstone.com/event/holiday-craft-bazaar-monday/
LOCATION:Mesilla Valley Mall\, 700 S Telshor Blvd\, Las Cruces\, NM\, 88011\, United States
CATEGORIES:Mall Events
END:VEVENT
BEGIN:VEVENT
DTSTART;TZID=America/Denver:20251221T110000
DTEND;TZID=America/Denver:20251221T170000
DTSTAMP:20260420T234957
CREATED:20250403T015926Z
LAST-MODIFIED:20250403T022814Z
UID:5430-1766314800-1766336400@naturalhealingstone.com
SUMMARY:Holiday Craft Bazaar
DESCRIPTION:Happy Holidays! \nJoin us for the monthly Artist\, Crafters\, & Creators Bazaar! \nCome find the perfect gift. \nOur booth is located just across from Cineport 10 and Spencer’s Gifts. \n 
URL:https://naturalhealingstone.com/event/holiday-craft-bazaar-sunday/
LOCATION:Mesilla Valley Mall\, 700 S Telshor Blvd\, Las Cruces\, NM\, 88011\, United States
CATEGORIES:Mall Events
END:VEVENT
BEGIN:VEVENT
DTSTART;TZID=America/Denver:20251220T080000
DTEND;TZID=America/Denver:20251220T170000
DTSTAMP:20260420T234957
CREATED:20250403T015829Z
LAST-MODIFIED:20250403T022828Z
UID:5428-1766217600-1766250000@naturalhealingstone.com
SUMMARY:Holiday Craft Bazaar
DESCRIPTION:Happy Holidays! \nJoin us for the monthly Artist\, Crafters\, & Creators Bazaar! \nCome find the perfect gift. \nOur booth is located just across from Cineport 10 and Spencer’s Gifts. \n 
URL:https://naturalhealingstone.com/event/holiday-craft-bazaar-saturday/
LOCATION:Mesilla Valley Mall\, 700 S Telshor Blvd\, Las Cruces\, NM\, 88011\, United States
CATEGORIES:Mall Events
END:VEVENT
BEGIN:VEVENT
DTSTART;TZID=America/Denver:20251219T110000
DTEND;TZID=America/Denver:20251219T170000
DTSTAMP:20260420T234957
CREATED:20250403T015701Z
LAST-MODIFIED:20250403T022846Z
UID:5426-1766142000-1766163600@naturalhealingstone.com
SUMMARY:Holiday Craft Bazaar
DESCRIPTION:Happy Holidays! \nJoin us for the monthly Artist\, Crafters\, & Creators Bazaar! \nCome find the perfect gift. \nOur booth is located just across from Cineport 10 and Spencer’s Gifts. \n 
URL:https://naturalhealingstone.com/event/holiday-craft-bazaar-friday/
LOCATION:Mesilla Valley Mall\, 700 S Telshor Blvd\, Las Cruces\, NM\, 88011\, United States
CATEGORIES:Mall Events
END:VEVENT
BEGIN:VEVENT
DTSTART;TZID=America/Denver:20251207T100000
DTEND;TZID=America/Denver:20251207T180000
DTSTAMP:20260420T234957
CREATED:20250403T014806Z
LAST-MODIFIED:20250403T014806Z
UID:5420-1765101600-1765130400@naturalhealingstone.com
SUMMARY:El Paso Gem Show
DESCRIPTION:
URL:https://naturalhealingstone.com/event/el-paso-gem-show-3/
LOCATION:El Maida Shriners\, 6331 Alabama St\, El Paso\, TX\, 79904\, United States
CATEGORIES:Cons and Expos
END:VEVENT
BEGIN:VEVENT
DTSTART;TZID=America/Denver:20251206T100000
DTEND;TZID=America/Denver:20251206T180000
DTSTAMP:20260420T234957
CREATED:20250403T014731Z
LAST-MODIFIED:20250403T014731Z
UID:5418-1765015200-1765044000@naturalhealingstone.com
SUMMARY:El Paso Gem Show
DESCRIPTION:
URL:https://naturalhealingstone.com/event/el-paso-gem-show-2/
LOCATION:El Maida Shriners\, 6331 Alabama St\, El Paso\, TX\, 79904\, United States
CATEGORIES:Cons and Expos
END:VEVENT
BEGIN:VEVENT
DTSTART;TZID=America/Denver:20251205T100000
DTEND;TZID=America/Denver:20251205T180000
DTSTAMP:20260420T234957
CREATED:20250403T014625Z
LAST-MODIFIED:20250403T014625Z
UID:5415-1764928800-1764957600@naturalhealingstone.com
SUMMARY:El Paso Gem Show
DESCRIPTION:
URL:https://naturalhealingstone.com/event/el-paso-gem-show/
LOCATION:El Maida Shriners\, 6331 Alabama St\, El Paso\, TX\, 79904\, United States
CATEGORIES:Cons and Expos
END:VEVENT
BEGIN:VEVENT
DTSTART;TZID=America/Denver:20251116T110000
DTEND;TZID=America/Denver:20251116T170000
DTSTAMP:20260420T234957
CREATED:20250403T015110Z
LAST-MODIFIED:20250403T022858Z
UID:5424-1763290800-1763312400@naturalhealingstone.com
SUMMARY:Craft Bazaar
DESCRIPTION:Join us for the monthly Artist\, Crafters\, & Creators Bazaar! Our booth is located just across from Cineport 10 and Spencer’s Gifts.
URL:https://naturalhealingstone.com/event/craft-bazaar-sunday-5/
LOCATION:Mesilla Valley Mall\, 700 S Telshor Blvd\, Las Cruces\, NM\, 88011\, United States
CATEGORIES:Mall Events
END:VEVENT
BEGIN:VEVENT
DTSTART;TZID=America/Denver:20251115T110000
DTEND;TZID=America/Denver:20251115T170000
DTSTAMP:20260420T234957
CREATED:20250403T014944Z
LAST-MODIFIED:20250403T022910Z
UID:5422-1763204400-1763226000@naturalhealingstone.com
SUMMARY:Craft Bazaar
DESCRIPTION:Join us for the monthly Artist\, Crafters\, & Creators Bazaar! Our booth is located just across from Cineport 10 and Spencer’s Gifts.
URL:https://naturalhealingstone.com/event/craft-bazaar-saturday-4/
LOCATION:Mesilla Valley Mall\, 700 S Telshor Blvd\, Las Cruces\, NM\, 88011\, United States
CATEGORIES:Mall Events
END:VEVENT
BEGIN:VEVENT
DTSTART;TZID=America/Denver:20251101T090000
DTEND;TZID=America/Denver:20251101T170000
DTSTAMP:20260420T234957
CREATED:20250403T021235Z
LAST-MODIFIED:20250403T021235Z
UID:5440-1761987600-1762016400@naturalhealingstone.com
SUMMARY:Centennial Craft Show 2025 [Date TBD]
DESCRIPTION:
URL:https://naturalhealingstone.com/event/centennial-craft-show-2025-date-tbd/
LOCATION:Centennial High School\, 1950 Sonoma Ranch Blvd\, Las Cruces\, NM\, 88011\, United States
CATEGORIES:Cons and Expos
END:VEVENT
BEGIN:VEVENT
DTSTART;TZID=America/Denver:20251011T100000
DTEND;TZID=America/Denver:20251011T150000
DTSTAMP:20260420T234957
CREATED:20250402T190403Z
LAST-MODIFIED:20250402T190403Z
UID:5412-1760176800-1760194800@naturalhealingstone.com
SUMMARY:Pagan Pride 2025
DESCRIPTION:
URL:https://naturalhealingstone.com/event/pagan-pride-2025/
LOCATION:Pioneer Women’s Park\, 500 W Las Cruces Ave\, Las Cruces\, NM\, 88005\, United States
CATEGORIES:Festivals
END:VEVENT
BEGIN:VEVENT
DTSTART;TZID=America/Denver:20250901T120000
DTEND;TZID=America/Denver:20250901T180000
DTSTAMP:20260420T234957
CREATED:20250402T190014Z
LAST-MODIFIED:20250402T190014Z
UID:5409-1756728000-1756749600@naturalhealingstone.com
SUMMARY:New Mexico Wine Festival 2025
DESCRIPTION:
URL:https://naturalhealingstone.com/event/new-mexico-wine-festival-2025-3/
LOCATION:NM Fair Grounds\, 12125 Robert Larson Blvd\, Las Cruces\, NM\, 88007\, United States
CATEGORIES:Festivals
END:VEVENT
BEGIN:VEVENT
DTSTART;TZID=America/Denver:20250831T080000
DTEND;TZID=America/Denver:20250831T180000
DTSTAMP:20260420T234957
CREATED:20250402T185927Z
LAST-MODIFIED:20250402T185927Z
UID:5407-1756627200-1756663200@naturalhealingstone.com
SUMMARY:New Mexico Wine Festival 2025
DESCRIPTION:
URL:https://naturalhealingstone.com/event/new-mexico-wine-festival-2025-2/
LOCATION:NM Fair Grounds\, 12125 Robert Larson Blvd\, Las Cruces\, NM\, 88007\, United States
END:VEVENT
BEGIN:VEVENT
DTSTART;TZID=America/Denver:20250830T120000
DTEND;TZID=America/Denver:20250830T180000
DTSTAMP:20260420T234957
CREATED:20250402T185839Z
LAST-MODIFIED:20250402T185839Z
UID:5404-1756555200-1756576800@naturalhealingstone.com
SUMMARY:New Mexico Wine Festival 2025
DESCRIPTION:
URL:https://naturalhealingstone.com/event/new-mexico-wine-festival-2025/
LOCATION:NM Fair Grounds\, 12125 Robert Larson Blvd\, Las Cruces\, NM\, 88007\, United States
CATEGORIES:Festivals
END:VEVENT
BEGIN:VEVENT
DTSTART;TZID=America/Denver:20250810T110000
DTEND;TZID=America/Denver:20250810T170000
DTSTAMP:20260420T234957
CREATED:20250402T184831Z
LAST-MODIFIED:20250403T022925Z
UID:5402-1754823600-1754845200@naturalhealingstone.com
SUMMARY:Craft Bazaar
DESCRIPTION:Join us for the monthly Artist\, Crafters\, & Creators Bazaar! Our booth is located just across from Cineport 10 and Spencer’s Gifts. We always bring a variety of stones and are sure to have the perfect addition to your collection.
URL:https://naturalhealingstone.com/event/craft-bazaar-sunday-4/
LOCATION:Mesilla Valley Mall\, 700 S Telshor Blvd\, Las Cruces\, NM\, 88011\, United States
CATEGORIES:Mall Events
END:VEVENT
BEGIN:VEVENT
DTSTART;TZID=America/Denver:20250809T110000
DTEND;TZID=America/Denver:20250809T170000
DTSTAMP:20260420T234957
CREATED:20250402T184720Z
LAST-MODIFIED:20250403T022937Z
UID:5400-1754737200-1754758800@naturalhealingstone.com
SUMMARY:Craft Bazaar
DESCRIPTION:Join us for the monthly Artist\, Crafters\, & Creators Bazaar! Our booth is located just across from Cineport 10 and Spencer’s Gifts. We always bring a variety of stones and are sure to have the perfect addition to your collection.
URL:https://naturalhealingstone.com/event/craft-bazaar-saturday-3/
LOCATION:Mesilla Valley Mall\, 700 S Telshor Blvd\, Las Cruces\, NM\, 88011\, United States
CATEGORIES:Mall Events
END:VEVENT
BEGIN:VEVENT
DTSTART;TZID=America/Denver:20250801T100000
DTEND;TZID=America/Denver:20250801T170000
DTSTAMP:20260420T234957
CREATED:20250403T021400Z
LAST-MODIFIED:20250403T021400Z
UID:5443-1754042400-1754067600@naturalhealingstone.com
SUMMARY:Las Cruces Comic Con 2025 [Date TBD]
DESCRIPTION:
URL:https://naturalhealingstone.com/event/las-cruces-comic-con-2025-date-tbd/
LOCATION:Mesilla Valley Mall\, 700 S Telshor Blvd\, Las Cruces\, NM\, 88011\, United States
CATEGORIES:Cons and Expos
END:VEVENT
BEGIN:VEVENT
DTSTART;TZID=America/Denver:20250713T110000
DTEND;TZID=America/Denver:20250713T170000
DTSTAMP:20260420T234957
CREATED:20250402T184239Z
LAST-MODIFIED:20250403T023140Z
UID:5398-1752404400-1752426000@naturalhealingstone.com
SUMMARY:Craft Bazaar
DESCRIPTION:Join us for the monthly Artist\, Crafters\, & Creators Bazaar! Our booth is located just across from Cineport 10 and Spencer’s Gifts. We always bring a variety of stones and are sure to have the perfect addition to your collection.
URL:https://naturalhealingstone.com/event/craft-bazaar-sunday-3/
LOCATION:Mesilla Valley Mall\, 700 S Telshor Blvd\, Las Cruces\, NM\, 88011\, United States
CATEGORIES:Mall Events
END:VEVENT
BEGIN:VEVENT
DTSTART;TZID=America/Denver:20250712T110000
DTEND;TZID=America/Denver:20250712T170000
DTSTAMP:20260420T234957
CREATED:20250402T184201Z
LAST-MODIFIED:20250403T023150Z
UID:5396-1752318000-1752339600@naturalhealingstone.com
SUMMARY:Craft Bazaar
DESCRIPTION:Join us for the monthly Artist\, Crafters\, & Creators Bazaar! Our booth is located just across from Cineport 10 and Spencer’s Gifts. We always bring a variety of stones and are sure to have the perfect addition to your collection.
URL:https://naturalhealingstone.com/event/craft-bazaar-saturday-2/
LOCATION:Mesilla Valley Mall\, 700 S Telshor Blvd\, Las Cruces\, NM\, 88011\, United States
CATEGORIES:Mall Events
END:VEVENT
BEGIN:VEVENT
DTSTART;TZID=America/Denver:20250615T110000
DTEND;TZID=America/Denver:20250615T170000
DTSTAMP:20260420T234957
CREATED:20250402T184014Z
LAST-MODIFIED:20250403T023201Z
UID:5394-1749985200-1750006800@naturalhealingstone.com
SUMMARY:Craft Bazaar
DESCRIPTION:Join us for the monthly Artist\, Crafters\, & Creators Bazaar! Our booth is located just across from Cineport 10 and Spencer’s Gifts. We always bring a variety of stones and are sure to have the perfect addition to your collection.
URL:https://naturalhealingstone.com/event/craft-bazaar-sunday-2/
LOCATION:Mesilla Valley Mall\, 700 S Telshor Blvd\, Las Cruces\, NM\, 88011\, United States
CATEGORIES:Mall Events
END:VEVENT
BEGIN:VEVENT
DTSTART;TZID=America/Denver:20250614T110000
DTEND;TZID=America/Denver:20250614T170000
DTSTAMP:20260420T234957
CREATED:20250402T183853Z
LAST-MODIFIED:20250403T023216Z
UID:5392-1749898800-1749920400@naturalhealingstone.com
SUMMARY:Craft Bazaar
DESCRIPTION:Join us for the monthly Artist\, Crafters\, & Creators Bazaar! Our booth is located just across from Cineport 10 and Spencer’s Gifts. We always bring a variety of stones and are sure to have the perfect addition to your collection.
URL:https://naturalhealingstone.com/event/craft-bazaar-saturday/
LOCATION:Mesilla Valley Mall\, 700 S Telshor Blvd\, Las Cruces\, NM\, 88011\, United States
CATEGORIES:Mall Events
END:VEVENT
BEGIN:VEVENT
DTSTART;TZID=America/Denver:20250511T120000
DTEND;TZID=America/Denver:20250511T170000
DTSTAMP:20260420T234957
CREATED:20250401T220533Z
LAST-MODIFIED:20250403T023058Z
UID:5378-1746964800-1746982800@naturalhealingstone.com
SUMMARY:Craft Bazaar
DESCRIPTION:Join us for the monthly Artist\, Crafters\, & Creators Bazaar! Our booth is located just across from Cineport 10 and Spencer’s Gifts. \nWe always bring a variety of stones and are sure to have the perfect addition to your collection.
URL:https://naturalhealingstone.com/event/craft-bazaar-sunday/
LOCATION:Mesilla Valley Mall\, 700 S Telshor Blvd\, Las Cruces\, NM\, 88011\, United States
CATEGORIES:Mall Events
ATTACH;FMTTYPE=image/jpeg:https://naturalhealingstone.com/web/wp-content/uploads/stones_hearts_crystals-scaled.jpg
END:VEVENT
BEGIN:VEVENT
DTSTART;TZID=America/Denver:20250510T110000
DTEND;TZID=America/Denver:20250510T170000
DTSTAMP:20260420T234957
CREATED:20250401T215955Z
LAST-MODIFIED:20250403T023033Z
UID:5376-1746874800-1746896400@naturalhealingstone.com
SUMMARY:Craft Bazaar
DESCRIPTION:Join us for the monthly Artist\, Crafters\, & Creators Bazaar! Our booth is located just across from Cineport 10 and Spencer’s Gifts. \nWe always bring a variety of stones and are sure to have the perfect addition to your collection.
URL:https://naturalhealingstone.com/event/craft-bazaar/
LOCATION:Mesilla Valley Mall\, 700 S Telshor Blvd\, Las Cruces\, NM\, 88011\, United States
CATEGORIES:Mall Events
ATTACH;FMTTYPE=image/jpeg:https://naturalhealingstone.com/web/wp-content/uploads/figurines_stones_crystals-scaled.jpg
END:VEVENT
END:VCALENDAR